Workbook

Sheet Summary of seeds and tools cost
B3: Summary of cost of simple modern irrigation system, seeds, tools and tools of demoplots and lead farmers
A4: S.No. | B4: Descriptions of work/activities | C4: Quantity | D4: Total Cost (USD)
A5: 1 | B5: Piloting sprinkler Irrigation for farmers training center | C5: 1 | D5: ='Modern irigation for Farmer Tr'!G17 -> 0
A6: 2 | B6: Seeds&Tools for framer training center farmer training center | C6: 1 | D6: ='Seeds & Tools for farmers TC'!G33 -> 0
A7: 3 | B7: Seeds and tool for lead farmers | C7: 1 | D7: ='Seeds and tool for lead farmers'!G33 -> 0
A8: 4 | B8: Seeds and Tools for 9 minor Demo plots across project target areas | C8: 1 | D8: ='Seeds and Toolsfor 9 DPLTs'!G33 -> 0
A9: 5 | B9: Agroforestry seeds and seedlings required values | C9: 1 | D9: ='Agroforestery seeds required'!G11 -> 0
A10: 6 | B10: Hermatic bags Cost Estimates for post-harvest best management cost | C10: 1 | D10: ='Hematic bag'!F16 -> 0
B11: Total cost of summary of construction site of Bulo bartire | D11: =SUM(D5:D10) -> 0
A14: Company Name:_________________________Stamp/Sign:_______________________Date_________

Sheet Modern irigation for  Farmer Tr
A3: S/A | B3: Piloting sprinkler Irrigation for farmers training center (Modern irigation for Farmer Training center Cost Estimation)
B4: Item No. | C4: Description | D4: unit | E4: Quantity | F4: Unit Cost (USD) | G4: Total Cost (USD)
B5: 1. | C5: Main line pipe | D5: m | E5: 35 | G5: =E5*F5 -> 0
B6: 2. | C6: Filter | D6: pcs | E6: 1 | G6: =E6*F6 -> 0
B7: 3. | C7: Drip line | D7: m | E7: 3 | G7: =E7*F7 -> 0
B8: 4. | C8: Max fittings | D8: pcs | E8: 10 | G8: =E8*F8 -> 0
B9: 5. | C9: Mini fittings | D9: pcs | E9: 120 | G9: =E9*F9 -> 0
B10: Sub-total | G10: =SUM(G5:G9) -> 0
B11: Drip irrigation for farmer training center | G11: =E11*F11 -> 0
B12: 6. | C12: Sprinkle routers | D12: pcs | E12: 20 | G12: =E12*F12 -> 0
B13: 7. | C13: High pressure ppr | D13: pcs | E13: 30 | G13: =E13*F13 -> 0
B14: 8. | C14: Fittings | D14: pcs | E14: 60 | G14: =E14*F14 -> 0
B15: 9. | C15: Sprinkle routers | D15: pcs | E15: 20 | G15: =E15*F15 -> 0
B16: Sub-total | G16: =SUM(G11:G15) -> 0
B17: Grand Total | G17: =G16+G10 -> 0
A20: Company Name:_________________________Stamp/Sign:_______________________Date_________

Sheet Seeds & Tools for farmers TC
A3: Seeds and Tools for framer training center farmer training center (Modern irigation for Farmer Training center Cost Estimation) (1ha) from the 5 Hectars expected from the JMoAI
A4: S/A | B4: Item No. | C4: Description | D4: unit | E4: Quantity | F4: Unit Cost (USD) | G4: Total Cost (USD)
B5: 1. | C5: Maize | D5: kg | E5: 15 | G5: =E5*F5 -> 0
B6: 2. | C6: Mung Bean | D6: kg | E6: 30 | G6: =E6*F6 -> 0
B7: 3. | C7: Green Gram | D7: kg | E7: 30 | G7: =E7*F7 -> 0
B8: 4. | C8: Cowpea | D8: kg | E8: 30 | G8: =E8*F8 -> 0
B9: 5. | C9: Lettuce | D9: g | E9: 1 | G9: =E9*F9 -> 0
B10: 6. | C10: Spinach | D10: g | E10: 1 | G10: =E10*F10 -> 0
B11: 7. | C11: Carrot | D11: g | E11: 1 | G11: =E11*F11 -> 0
B12: 8. | C12: Tomatoes | D12: g | E12: 1 | G12: =E12*F12 -> 0
B13: 9. | C13: Capsicum | D13: g | E13: 1 | G13: =E13*F13 -> 0
B14: 10. | C14: Okra | D14: g | E14: 1 | G14: =E14*F14 -> 0
B15: 11. | C15: Pumpkins | D15: g | E15: 1 | G15: =E15*F15 -> 0
B16: Sub-total | G16: =SUM(G5:G15) -> 0
A17: Tools for framer training center (1ha)
B18: 12. | C18: Shovel | D18: pcs | E18: 3 | G18: =E18*F18 -> 0
B19: 13. | C19: Kawawe | D19: pcs | E19: 3 | G19: =E19*F19 -> 0
B20: 14. | C20: Spade | D20: pcs | E20: 3 | G20: =E20*F20 -> 0
B21: 15. | C21: Hoe | D21: pcs | E21: 3 | G21: =E21*F21 -> 0
B22: 16. | C22: Axe (local) | D22: pcs | E22: 3 | G22: =E22*F22 -> 0
B23: 17. | C23: Panga | D23: pcs | E23: 3 | G23: =E23*F23 -> 0
B24: 18. | C24: Sprayer | D24: pcs | E24: 2 | G24: =E24*F24 -> 0
B25: 19. | C25: Rake | D25: pcs | E25: 3 | G25: =E25*F25 -> 0
B26: 20. | C26: Wheelbarrow | D26: pcs | E26: 2 | G26: =E26*F26 -> 0
B27: 21. | C27: Garden Fork | D27: pcs | E27: 3 | G27: =E27*F27 -> 0
B28: 22. | C28: Gloves | D28: pcs | E28: 3 | G28: =E28*F28 -> 0
B29: 23. | C29: Mattock | D29: pcs | E29: 3 | G29: =E29*F29 -> 0
... B31: 25. | C31: Watering Can | D31: pcs | E31: 3 | G31: =E31*F31 -> 0
B32: Sub-total | G32: =SUM(G18:G31) -> 0
B33: Grand Total | G33: =G16+G32 -> 0
A36: Company Name:_________________________Stamp/Sign:_______________________Date_________

Sheet Seeds and tool for lead farmers
A3: Seeds and tool for lead farmers as Incentives for their work of farmers training
A4: S/A | B4: Item No. | C4: Description | D4: unit | E4: Quantity | F4: Unit Cost (USD) | G4: Total Cost (USD)
B5: 1. | C5: Maize | D5: kg | E5: 64 | G5: =E5*F5 -> 0
B6: 2. | C6: Lettuce | D6: package | E6: 16 | G6: =E6*F6 -> 0
B7: 3. | C7: Spinach | D7: package | E7: 16 | G7: =E7*F7 -> 0
B8: 4. | C8: Carrot | D8: package | E8: 16 | G8: =E8*F8 -> 0
B9: 5. | C9: Tomatoes | D9: package | E9: 16 | G9: =E9*F9 -> 0
B10: 6. | C10: Capsicum | D10: package | E10: 16 | G10: =E10*F10 -> 0
B11: 7. | C11: Okra | D11: package | E11: 16 | G11: =E11*F11 -> 0
B12: 8. | C12: Pumpkins | D12: package | E12: 16 | G12: =E12*F12 -> 0
B13: 9. | C13: Mung Bean | D13: kg | E13: 64 | G13: =E13*F13 -> 0
B14: 10. | C14: Green Gram | D14: kg | E14: 64 | G14: =E14*F14 -> 0
B15: 11. | C15: Cowpea | D15: kg | E15: 64 | G15: =E15*F15 -> 0
B16: Sub-total | G16: =SUM(G5:G15) -> 0
A17: Tools for framer training center (1ha)
B18: 1. | C18: Shovel | D18: pcs | E18: 32 | G18: =E18*F18 -> 0
B19: 2. | C19: Kawawe | D19: pcs | E19: 32 | G19: =E19*F19 -> 0
B20: 3. | C20: Spade | D20: pcs | E20: 32 | G20: =E20*F20 -> 0
B21: 4. | C21: Hoe | D21: pcs | E21: 16 | G21: =E21*F21 -> 0
B22: 5. | C22: Axe | D22: pcs | E22: 16 | G22: =E22*F22 -> 0
B23: 6. | C23: Panga | D23: pcs | E23: 16 | G23: =E23*F23 -> 0
B24: 7. | C24: Sprayer | D24: pcs | E24: 16 | G24: =E24*F24 -> 0
B25: 8. | C25: Rake | D25: pcs | E25: 32 | G25: =E25*F25 -> 0
B26: 9. | C26: Wheelbarrow | D26: pcs | E26: 16 | G26: =E26*F26 -> 0
B27: 10. | C27: Garden Fork | D27: pcs | E27: 32 | G27: =E27*F27 -> 0
B28: 11. | C28: Gloves | D28: pcs | E28: 16 | G28: =E28*F28 -> 0
B29: 12. | C29: Mattock | D29: pcs | E29: 16 | G29: =E29*F29 -> 0
... B31: 14. | C31: Watering Can | D31: pcs | E31: 16 | G31: =E31*F31 -> 0
B32: Sub-total | G32: =SUM(G18:G31) -> 0
B33: Grand Total | G33: =G16+G32 -> 0
A36: Company Name:_________________________Stamp/Sign:_______________________Date_________

Sheet Seeds and Toolsfor 9 DPLTs
A3: Seeds and Tools for 9 minor Demo plots accross project target villages
A4: S/A | B4: Item No. | C4: Description | D4: unit | E4: Quantity | F4: Unit Cost (USD) | G4: Total Cost (USD)
B5: 1. | C5: Maize | D5: kg | E5: 34 | G5: =E5*F5 -> 0
B6: 2. | C6: Mung Bean | D6: kg | E6: 34 | G6: =E6*F6 -> 0
B7: 3. | C7: Green Gram | D7: kg | E7: 34 | G7: =E7*F7 -> 0
B8: 4. | C8: Cowpea | D8: kg | E8: 34 | G8: =E8*F8 -> 0
B9: 5. | C9: Lettuce | D9: g | E9: 9 | G9: =E9*F9 -> 0
B10: 6. | C10: Spinach | D10: g | E10: 9 | G10: =E10*F10 -> 0
B11: 7. | C11: Carrot | D11: g | E11: 9 | G11: =E11*F11 -> 0
B12: 8. | C12: Tomatoes | D12: g | E12: 9 | G12: =E12*F12 -> 0
B13: 9. | C13: Capsicum | D13: g | E13: 9 | G13: =E13*F13 -> 0
B14: 10. | C14: Okra | D14: g | E14: 9 | G14: =E14*F14 -> 0
B15: 11. | C15: Pumpkins | D15: g | E15: 9 | G15: =E15*F15 -> 0
B16: Sub-total | G16: =SUM(G5:G15) -> 0
A17: Tools for framer training center (1ha)
B18: 1. | C18: Shovel | D18: pcs | E18: 18 | G18: =E18*F18 -> 0
B19: 2. | C19: Kawawe | D19: pcs | E19: 18 | G19: =E19*F19 -> 0
B20: 3. | C20: Spade | D20: pcs | E20: 18 | G20: =E20*F20 -> 0
B21: 4. | C21: Hoe | D21: pcs | E21: 18 | G21: =E21*F21 -> 0
B22: 5. | C22: Axe (local) | D22: pcs | E22: 18 | G22: =E22*F22 -> 0
B23: 6. | C23: Panga | D23: pcs | E23: 18 | G23: =E23*F23 -> 0
B24: 7. | C24: Sprayer | D24: pcs | E24: 9 | G24: =E24*F24 -> 0
B25: 8. | C25: Rake | D25: pcs | E25: 18 | G25: =E25*F25 -> 0
B26: 9. | C26: Wheelbarrow | D26: pcs | E26: 9 | G26: =E26*F26 -> 0
B27: 10. | C27: Garden Fork | D27: pcs | E27: 18 | G27: =E27*F27 -> 0
B28: 11. | C28: Gloves | D28: pcs | E28: 18 | G28: =E28*F28 -> 0
B29: 12. | C29: Mattock | D29: pcs | E29: 18 | G29: =E29*F29 -> 0
... B31: 14. | C31: Watering Can | D31: pcs | E31: 18 | G31: =E31*F31 -> 0
B32: Sub-total | G32: =SUM(G18:G31) -> 0
B33: Grand Total | G33: =G16+G32 -> 0
A36: Company Name:_________________________Stamp/Sign:_______________________Date_________

Sheet Agroforestery seeds required
A3: Agroforestry seeds and seedlings required values
A4: S/A | B4: Item No. | C4: Description | D4: unit | E4: Quantity | F4: Unit Cost (USD) | G4: Total Cost (USD)
B5: 1. | C5: Leucaena lucocephala | D5: kg | E5: 5 | G5: =E5*F5 -> 0
B6: 2. | C6: Faidherbiaalbida | D6: kg | E6: 5 | G6: =E6*F6 -> 0
B7: 3. | C7: Moringa | D7: kg | E7: 5 | G7: =E7*F7 -> 0
B8: 4. | C8: Sesbania sesban | D8: Kg | E8: 5 | G8: =E8*F8 -> 0
B9: 5. | C9: Neem tree | D9: Seedling | E9: 50 | G9: =E9*F9 -> 0
B10: 6. | C10: Moringa | D10: Seedling | E10: 50 | G10: =E10*F10 -> 0
A11: Grand Total | G11: =SUM(G5:G10) -> 0
A14: Company Name:_________________________Stamp/Sign:_______________________Date_________

Sheet Hematic bag
A3: Hermatic bags Cost Estimates for post-harvest best management cost
A4: Item No. | B4: Description | C4: unit | D4: Quantity | E4: Unit Cost (USD) | F4: Total Cost (USD)
A5: Made of two high density polyethylene (HDPE), 80 microns thick inner bags. Having one polypropylene (PP) woven outer bag Suitable for storing grain and seed without using chemicals to control insect pests Capacity: 100kg Dimensions: 70 cm x 135 cm (Approx.) Capable of storing a variety of legumes and cereal crops for more than one year after harvest Able to provide hermetic condition when sealed or tied Water resistant Colour: Transparent inner bags and White outer bags | C5: Bags | D5: 2100 | F5: =D5*E5 -> 0
A16: Grand Total | F16: =SUM(F5:F15) -> 0
A19: Company Name:_________________________Stamp/Sign:_______________________Date_________
