Workbook

Sheet Innovation Center
B3: INNOVATION BLOCK
A4: # | B4: DESCRIPTION | C4: QTY | D4: UNIT | E4: RATE | F4: TOTAL / USD
A5: 1 | B5: GENERAL EXPENSES FOR THE PROJECT
A6: 1.1 | B6: Mobilizaion and demobilzation and site clearing ( Please provide a A lumpsum quotation for all your general expenses related to mobilization, demobilization, and site clearing in the Fencing Wall Bill of Quantities.) | C6: 1 | D6: L.S. | F6: =C6*E6 -> 0
A7: 2 | B7: EXCAVATION AND EARTHWORKS
A8: 2.1 | B8: Excavation in any kind of soil, rock..etc., starting at natural levels, including all necessary tools,, removal of surplus materials from site to an approved dumping area,complete as per specifications. Trench depths not exceeding 0.80 M from the existing ground level and 1.5m for concrete footing or as per Geotechnical report | C8: 929.36 | D8: M3 | F8: =E8*C8 -> 0
A9: 2.2 | B9: Backfill Improted sellected material "approved hardcore filling" compacted mechanicaly and laid in layers not exceeding 200 mm thick | C9: 420.8085 | D9: M3 | F9: =E9*C9 -> 0
A10: 3 | B10: CONCREATE WORK FOR SUBSTRUCTURE & SUPERSTRUCTURE
A11: All concrete works includes the supply of ready mix concrete or Cast in situ, placing& casting, formwork & supports, reproping, shuttering, vibration, curing, testing and whatever needed for the completion of the works all in accordance to the standards, codes, specifications and as details shown in drawings.
A12: A | B12: Supply and construct Plain cast in place concrete "C15", 150 kg/cm2 cube compressive strength at 28 days, with ordinary portland cement below footing and Floor slab and the price include all necessary formwork, complete as per specifications & Thickness as shown on drawings and specifications.
A13: 3.1 | B13: 5cm for floor slab at the finish floor level | C13: 46.7565 | D13: M3 | F13: =C13*E13 -> 0
A14: 3.2 | B14: 10cm for Footing | C14: 35.572 | D14: M4 | F14: =C14*E14 -> 0
A15: B | B15: Supply and construct Reinforced cast in place concrete "ready mix concrete with compressive strength 210 kg/cm2 at 28 days (for Foundation, Lintels and Grade Beams) and cast in place concrete "ready mix concrete with compressive strength 250 kg/cm2 at 28 days (Slabs, Beams, Columns and Walls) ,with ordinary portland cement including steel reinforcement grade 60 (420N/mm2) including bending, hooks, tying wires, spacers and concrete placing& casting, formwork &supports, reproping, shuttering, vibration, curing, testing complete as per drawings and specifications
A16: 3.2 | B16: for ground beams | C16: 36.144 | D16: M3 | F16: =E16*C16 -> 0
A17: 3.3 | B17: Columns | C17: 168.72 | D17: M3 | F17: =E17*C17 -> 0
A18: 3.4 | B18: Lintels | C18: 36.232 | D18: M3 | F18: =E18*C18 -> 0
A19: 3.5 | B19: Beams | C19: 215.325 | D19: M3 | F19: =E19*C19 -> 0
A20: 3.6 | B20: Slabs | C20: 156.825 | D20: M3 | F20: =E20*C20 -> 0
A21: 3.7 | B21: Footing | C21: 249.004 | D21: M3 | F21: =E21*C21 -> 0
A22: 4 | B22: MASONARY WORK
A23: The price of the unit covers everything needed to complete the work, including supply, placement, workmanship, mortar, scaffolding, filling mastic for expansion joints, and all other necessary materials, equipment, and tools as per the specifications provided by the supervisor engineer.
A24: A | B24: The hollow cement block, sourced from a reputable and approved factory, is precisely dimensioned and has been constructed to high standards, with a compressive strength of 35 kg/cm2. This item also includes cement mortars.
A25: 4.1 | B25: 18*38*18 cm jointed with cement sand mortar of 1:4proportion (1 cement: 4 clean coarse sand) | C25: 3158.26 | D25: M2 | F25: =E25*C25 -> 0
A26: 4.2 | B26: Concrete Block/ Local Stone Building for the Entance steps | C26: 15 | D26: M3 | F26: =E26*C26 -> 0
A27: 4.3 | B27: Accessible wheelchair ramp measuring 2.5 meters wide and 4 meters long, with a 20% slope, complete with plastering and a necessary non-slippery surface finish. | C27: 15 | D27: M2 | F27: =E27*C27 -> 0
A28: 4.4 | B28: The local stone used must be of the highest quality, in good condition, and capable of being cut into various sizes. Samples will be provided for approval, and all required tests will be conducted.
A29: 4.5 | B29: 40cm thickness bedded and jointed with cement sand mortar of 1:4 proportion (1 cement: 4 clean coarse sand) up to a height of 50cm above the Grade depends on the train, some points may exceed 1oocm. | C29: 144.576 | D29: M3 | F29: =E29*C29 -> 0
A30: 5 | B30: ROOFING WORK
A31: 5.1 | B31: Supply and constuct roof including truss members, galvanised iron sheets gauge 28 complete with nails, straps and secured with iron bars embedded into tie beam. | C31: 937.165 | D31: M2 | F31: =C31*E31 -> 0
A32: 5.2 | B32: Ceiling finishes using 3mm Timber board and 5x2.5cm timber complete accessories and nails | C32: 937.165 | D32: M2 | F32: =C32*E32 -> 0
A33: 5 | B33: PLASTER WORK
A34: All construction work must be carried out in strict accordance with the specificatins and instructions provided by the engineer. 1. The rates should cover the cost of all necessary materials, including galvanized angles for the corners and the use of galvanized wire mesh between concrete and block work. 2. Preparatory work involves covering all electrical and water conduits, as well as spaces between existing walls and slabs, with a galvanized wire mesh at least 20cm wide coated with mortar (1:3 cement: sand). This includes the removal of wires and nails, and thorough cleaning of surfaces in preparation for plastering. This musAll construction work must be carried out in strict accordance with the specifications and instructions provided by the engineer. 1. The rates should cover the cost of all necessary materials, including galvanized angles for the corners and the use of galvanized wire mesh between concrete and block work. 2. Preparatory work involves covering all electrical and water conduits, as well as spaces between existing walls and slabs, with a galvanized wire mesh at least 20cm wide coated with mortar (1:3 cement: sand). This includes the removal of wires and nails, and thorough cleaning of surfaces in preparation for plastering. This must be completed prior to commencing plastering and only after obtaining written approval from the supervising engineer. 3. The contractor is responsible for accounting for all direct and indirect works and expenses necessary for the completion of the specified tasks in the unit price. 4. Curing with water for a minimum of three days for each coat is mandatory. 5. The price for plastering should encompass all essential materials and labor, including mixing, scaffolding, site cleaning, required equipment, and skilled workmanship to ensure that the work is completed in accordance with the specified requirements and engineer's directions.t be completed prior to commencing plastering and only after obtaining written approval from the supervising engineer. 3. The contractor is responsible for accounting for all direct and indirect works and expenses necessary for the completion of the specified tasks in the unit price. 4. Curing with water for a minimum of three days for each coat is mandatory. 5. The price for plastering should encompass all essential materials and labor, including mixing, scaffolding, site cleaning, required equipment, and skilled workmanship to ensure that the work is completed in accordance with the specified requirements and engineer's directions.
A35: 5.1 | B35: Interior walls 20mm thick mortar ratio 1:4 cement and sand plastering | C35: 4829.12 | D35: M2 | F35: =E35*C35 -> 0
A36: 5.2 | B36: Exterior walls 20mm thick mortar ratio 1:4 cement and sand plastering | C36: 1483.64 | D36: M2 | F36: =E36*C36 -> 0
A37: 5.3 | B37: Installation of exterior moldings (Cement-sand mortar) in designated areas as indicated in the provided drawings to enhance the building's aesthetic . | C37: 1 | D37: L.S | F37: =E37*C37 -> 0
A38: 6 | B38: PAINTING WORK
A39: When pricing the rates for the painting works, the contractor must consider and account for all the costs and expenses outlined in the preambles, drawings, and technical specifications of the contract. The type of paint used must adhere to the specified standards and requirements. Additionally, the contractor should anticipate that the engineer may require various colors or combinations of colors to match an approved color scheme. It is essential that all paint works adhere to the manufacturer's instructions regarding the number of coats, rate of application, and drying time.
A40: 6.1 | B40: Supply and apply emulsion paint on the ceiling and interior walls composed of two coats of putty and 2 coats of emulsion paint. ( colors and brands as directed by the consulting engineer). | C40: 5764.25 | D40: M2 | F40: =E40*C40 -> 0
A41: 6.2 | B41: Supply and paint on plastered Exterior walls composed of two coats of perimer and 2 coats of Accrylic paint ( colors and brands as directed by the consulting engineer). | C41: 1483.64 | D41: M2 | F41: =E41*C41 -> 0
A42: 7 | B42: TILING TO THE FLOORS & WALLS
A43: 7.1 | B43: Supply and install high quality 40x40cm ceramic floor tiles The tiles shall be laid and fixed to the walls in patterns, style and forms of grouting& jointing as directed by engineer using approved adhesive materials. The price also includes the special coved ceramic pieces for corners and skirting and cost of surface preparation to receive tiles, approved adhesive materials, grouting, aluminum protection angles as approved by the engineer. | C43: 1874.33 | D43: M2 | F43: =C43*E43 -> 0
A44: 7.2 | B44: 10cm Ceramic Skirting | C44: 1345.5 | D44: l.m. | F44: =C44*E44 -> 0
A45: 7.3 | B45: Supply and install high quality 20x30cm (20x20) glazed ceramic tiles for walls up to 3m cladding of different colours. The tiles shall be laid and fixed to the walls in patterns, style and forms of grouting& jointing as directed by engineer using approved adhesive materials. The price also includes the special coved ceramic pieces for corners and skirting and cost of surface preparation to receive tiles, which shall include two coats of cement plaster (scratch and float coat), approved adhesive materials, grouting, aluminum protection angles as approved by the engineer. | C45: 183.6 | D45: M2 | F45: =C45*E45 -> 0
A46: 7.4 | B46: Marble Stone for Staircase Steps | C46: 150 | F46: =C46*E46 -> 0
A47: 8 | B47: DOORS
A48: A Steel Door consisting of: • 1.2mm galvanized steel sheets on both sides, with corrosion resistance and primer paint, 40mm internal honeycomb or fire-rated mineral wool core for insulation, 1.5mm steel frame and subframe, with reinforcements at hardware locations, All necessary hardware: hinges, locks, handles, closers, as per specifications, Architraves of steel or powder-coated aluminium, Fire and acoustic seals as required, Mastics and sealants for airtightness and fire safety, Powder-coated finish, colour as per approved sample, Accessories: door stops, kickplates, vision panels, fire exit hardware if applicable.
A49: 8.1 | B49: D01 Supply and install double leaf Wooden door in complete with all fittings, hinges, locks and keys - door size 120x215cm | C49: 27 | D49: Nos | F49: =E49*C49 -> 0
A50: 8.2 | B50: D02 Supply and install double leaf Wooden door in complete with all fittings, hinges, locks and keys - door size 90x215cm | C50: 8 | D50: Nos | F50: =E50*C50 -> 0
A51: 8.4 | B51: D04 Supply and install Single leaf PVC door in complete with all fittings, hinges, locks and keys - door size 80x2.15cm | C51: 19 | D51: Nos | F51: =E51*C51 -> 0
A52: 9 | B52: WINDOWS
A53: 1.2mm galvanized steel sheets on both sides, with corrosion resistance and primer paint, 40mm internal honeycomb or fire-rated mineral wool core for insulation, 1.5mm steel frame and subframe, with reinforcements at hardware locations, All necessary hardware: hinges, handles, closers, as per specifications, Architraves of steel or powder-coated aluminium, Fire and acoustic seals as required, Mastics and sealants for airtightness and fire safety, Powder-coated finish, colour as per approved sample
A54: 9.2 | B54: W1 (80x60) cm | C54: 9 | D54: Nos | F54: =E54*C54 -> 0
A55: 9.3 | B55: W2 (120x200) | C55: 97 | D55: Nos | F55: =E55*C55 -> 0
A56: 9.4 | B56: W32 (80x10.80) cm For the Staircases | C56: 2 | D56: Nos | F56: =E56*C56 -> 0
A57: 9.5 | B57: Steel Handrail in the Balcony as shown in the Drawing | C57: 52 | D57: L.m | F57: =E57*C57 -> 0
A58: 9.6 | B58: Steel Handrail in the Staircases as shown in the Drawing | C58: 40 | D58: L.m | F58: =E58*C58 -> 0
A59: 11 | B59: MEP WORKS
A60: 11.2 | B60: Plumbing and mechanical works supply and install as per drawaings | C60: 1 | D60: L.S | F60: =C60*E60 -> 0
A61: 11.2 | B61: Electrical works supply and install as per drawaings | C61: 1 | D61: L.S | F61: =C61*E61 -> 0
A62: TOTAL FOR CONSTRUTION WORKS | F62: =SUM(F6:F61) -> 0

Sheet Vocational Training
B3: VOCATIONAL TRAINING
A4: # | B4: DESCRIPTION | C4: QTY | D4: UNIT | E4: RATE | F4: TOTAL / USD
A5: 1 | B5: GENERAL EXPENSES FOR THE PROJECT
A6: 1.1 | B6: Mobilizaion and demobilzation and site clearing ( Please provide a A lumpsum quotation for all your general expenses related to mobilization, demobilization, and site clearing in the Fencing Wall Bill of Quantities.) | C6: 1 | D6: l.s | F6: =C6*E6 -> 0
A7: 2 | B7: EXCAVATION AND EARTHWORKS
A8: 2.1 | B8: Excavation in any kind of soil, rock..etc., starting at natural levels, including all necessary tools,, removal of surplus materials from site to an approved dumping area,complete as per specifications. Trench depths not exceeding 0.80 M from the existing ground level and 1.5m for concrete footing or as per Geotechnical report | C8: 75.216 | D8: M3 | F8: =C8*E8 -> 0
A9: 2.2 | B9: Backfill Improted sellected material "approved hardcore filling" compacted mechanicaly and laid in layers not exceeding 200 mm thick | C9: 173.241 | D9: M3 | F9: =E9*C9 -> 0
A10: 3 | B10: CONCREATE WORK FOR SUBSTRUCTURE & SUPERSTRUCTURE
A11: All concrete works includes the supply of ready mix concrete or Cast in situ, placing& casting, formwork & supports, reproping, shuttering, vibration, curing, testing and whatever needed for the completion of the works all in accordance to the standards, codes, specifications and as details shown in drawings.
A12: A | B12: Supply and construct Plain cast in place concrete "C15", 150 kg/cm2 cube compressive strength at 28 days, with ordinary portland cement below footing and Floor slab and the price include all necessary formwork, complete as per specifications & Thickness as shown on drawings and specifications.
A13: 3.1 | B13: 5cm for floor slab at the finish floor level | C13: 19.249 | D13: M3 | F13: =C13*E13 -> 0
A14: B | B14: Supply and construct Reinforced cast in place concrete "ready mix concrete with compressive strength 210 kg/cm2 at 28 days (for Foundation, Lintels and Grade Beams) and cast in place concrete "ready mix concrete with compressive strength 250 kg/cm2 at 28 days (Slabs, Beams, Columns and Walls) ,with ordinary portland cement including steel reinforcement grade 60 (420N/mm2) including bending, hooks, tying wires, spacers and concrete placing& casting, formwork &supports, reproping, shuttering, vibration, curing, testing complete as per drawings and specifications
A15: 3.2 | B15: for ground beams | C15: 12.536 | D15: M3 | F15: =E15*C15 -> 0
A16: 3.3 | B16: Lintels | C16: 6.268 | D16: M3 | F16: =E16*C16 -> 0
A17: 3.4 | B17: Roof beams at the end of the walls | C17: 6.268 | D17: M3 | F17: =E17*C17 -> 0
A18: 3.5 | B18: Verandah Columns | C18: 2.376 | D18: M3 | F18: =E18*C18 -> 0
A19: 4 | B19: MASONARY WORK
A20: The price of the unit covers everything needed to complete the work, including supply, placement, workmanship, mortar, scaffolding, filling mastic for expansion joints, and all other necessary materials, equipment, and tools as per the specifications provided by the supervisor engineer.
A21: A | B21: The hollow cement block, sourced from a reputable and approved factory, is precisely dimensioned and has been constructed to high standards, with a compressive strength of 35 kg/cm2. This item also includes cement mortars.
A22: 4.1 | B22: 18*38*18 cm jointed with cement sand mortar of 1:4proportion (1 cement: 4 clean coarse sand) | C22: 541.505 | D22: M2 | F22: =E22*C22 -> 0
A23: 4.2 | B23: Concrete Block/ Local Stone Building for the Entance steps | C23: 1.35 | D23: M3 | F23: =E23*C23 -> 0
A24: B | B24: The local stone used must be of the highest quality, in good condition, and capable of being cut into various sizes. Samples will be provided for approval, and all required tests will be conducted.
A25: 4.3 | B25: 40cm thickness bedded and jointed with cement sand mortar of 1:4 proportion (1 cement: 4 clean coarse sand) up to a height of 50cm above the Grade depends on the train, some points may exceed 1oocm. | C25: 50.144 | D25: M3 | F25: =E25*C25 -> 0
A26: 5 | B26: ROOFING WORK
A27: 5.1 | B27: Supply and constuct roof including truss members, galvanised iron sheets gauge 28 complete with nails, straps and secured with iron bars embedded into tie beam. | C27: 384.98 | D27: M2 | F27: =C27*E27 -> 0
A28: 5.2 | B28: Ceiling finishes using 3mm Timber board and 5x2.5cm timber complete accessories and nails | C28: 384.98 | D28: M2 | F28: =C28*E28 -> 0
A29: 6 | B29: PLASTER WORK
A30: All construction work must be carried out in strict accordance with the specificatins and instructions provided by the engineer. 1. The rates should cover the cost of all necessary materials, including galvanized angles for the corners and the use of galvanized wire mesh between concrete and block work. 2. Preparatory work involves covering all electrical and water conduits, as well as spaces between existing walls and slabs, with a galvanized wire mesh at least 20cm wide coated with mortar (1:3 cement: sand). This includes the removal of wires and nails, and thorough cleaning of surfaces in preparation for plastering. This musAll construction work must be carried out in strict accordance with the specifications and instructions provided by the engineer. 1. The rates should cover the cost of all necessary materials, including galvanized angles for the corners and the use of galvanized wire mesh between concrete and block work. 2. Preparatory work involves covering all electrical and water conduits, as well as spaces between existing walls and slabs, with a galvanized wire mesh at least 20cm wide coated with mortar (1:3 cement: sand). This includes the removal of wires and nails, and thorough cleaning of surfaces in preparation for plastering. This must be completed prior to commencing plastering and only after obtaining written approval from the supervising engineer. 3. The contractor is responsible for accounting for all direct and indirect works and expenses necessary for the completion of the specified tasks in the unit price. 4. Curing with water for a minimum of three days for each coat is mandatory. 5. The price for plastering should encompass all essential materials and labor, including mixing, scaffolding, site cleaning, required equipment, and skilled workmanship to ensure that the work is completed in accordance with the specified requirements and engineer's directions.t be completed prior to commencing plastering and only after obtaining written approval from the supervising engineer. 3. The contractor is responsible for accounting for all direct and indirect works and expenses necessary for the completion of the specified tasks in the unit price. 4. Curing with water for a minimum of three days for each coat is mandatory. 5. The price for plastering should encompass all essential materials and labor, including mixing, scaffolding, site cleaning, required equipment, and skilled workmanship to ensure that the work is completed in accordance with the specified requirements and engineer's directions.
A31: 6.1 | B31: Interior walls 20mm thick mortar ratio 1:4 cement and sand plastering | C31: 933.171 | D31: M2 | F31: =E31*C31 -> 0
A32: 6.2 | B32: Exterior walls 20mm thick mortar ratio 1:4 cement and sand plastering | C32: 168.04 | D32: M2 | F32: =E32*C32 -> 0
A33: 6.3 | B33: Installation of exterior moldings (Cement-sand mortar) in designated areas as indicated in the provided drawings to enhance the building's aesthetic . | C33: 1 | D33: L.S | F33: =E33*C33 -> 0
A34: 7 | B34: PAINTING WORK
A35: When pricing the rates for the painting works, the contractor must consider and account for all the costs and expenses outlined in the preambles, drawings, and technical specifications of the contract. The type of paint used must adhere to the specified standards and requirements. Additionally, the contractor should anticipate that the engineer may require various colors or combinations of colors to match an approved color scheme. It is essential that all paint works adhere to the manufacturer's instructions regarding the number of coats, rate of application, and drying time.
A36: 7.1 | B36: Supply and apply emulsion paint on the ceiling and interior walls composed of two coats of putty and 2 coats of emulsion paint. ( colors and brands as directed by the consulting engineer). | C36: 933.171 | D36: M2 | F36: =E36*C36 -> 0
A37: 7.2 | B37: Supply and paint on plastered Exterior walls composed of two coats of perimer and 2 coats of Accrylic paint ( colors and brands as directed by the consulting engineer). | C37: 168.04 | D37: M2 | F37: =E37*C37 -> 0
A38: 8 | B38: TILING TO THE FLOORS & WALLS
A39: 8.1 | B39: Supply and install high quality 40x40cm ceramic floor tiles The tiles shall be laid and fixed to the walls in patterns, style and forms of grouting& jointing as directed by engineer using approved adhesive materials. The price also includes the special coved ceramic pieces for corners and skirting and cost of surface preparation to receive tiles, approved adhesive materials, grouting, aluminum protection angles as approved by the engineer. | C39: 384.98 | D39: M2 | F39: =C39*E39 -> 0
A40: 8.2 | B40: 10cm Ceramic Skirting | C40: 259.77 | F40: =C40*E40 -> 0
A41: 8.3 | B41: Supply and install high quality 20x30cm (20x20) glazed ceramic tiles for walls up to 3m cladding of different colours. The tiles shall be laid and fixed to the walls in patterns, style and forms of grouting& jointing as directed by engineer using approved adhesive materials. The price also includes the special coved ceramic pieces for corners and skirting and cost of surface preparation to receive tiles, which shall include two coats of cement plaster (scratch and float coat), approved adhesive materials, grouting, aluminum protection angles as approved by the engineer. | C41: 39.6 | F41: =C41*E41 -> 0
A42: 8.4 | B42: Marble Stone for Staircase Steps | C42: 20 | F42: =C42*E42 -> 0
A43: 9 | B43: DOORS
A44: A Wooden doors consisting of 1.0mm laminate sheet, 5mm MDF board, and 4mm gypsum board, complete with all necessary frames, subframes, hardware, architraves, mastics, painting, fittings, fixings, and accessories as shown on drawings and per specifications.
A45: A Steel Door consisting of: • 1.2mm galvanized steel sheets on both sides, with corrosion resistance and primer paint, 40mm internal honeycomb or fire-rated mineral wool core for insulation, 1.5mm steel frame and subframe, with reinforcements at hardware locations, All necessary hardware: hinges, locks, handles, closers, as per specifications, Architraves of steel or powder-coated aluminium, Fire and acoustic seals as required, Mastics and sealants for airtightness and fire safety, Powder-coated finish, colour as per approved sample, Accessories: door stops, kickplates, vision panels, fire exit hardware if applicable.
A46: 9.1 | B46: D01 Supply and install Single leaf Wood door in complete with all fittings, hinges, locks and keys - door size 90x215cm | C46: 4 | D46: Nos | F46: =E46*C46 -> 0
A47: 9.2 | B47: D01 Supply and install Single leaf Wood door in complete with all fittings, hinges, locks and keys - door size 120x215cm | C47: 4 | D47: Nos | F47: =E47*C47 -> 0
A48: 9.3 | B48: D02 Supply and install Single leaf Wood/Alluminum or PVC door in complete with all fittings, hinges, locks and keys - door size 215x80cm as Directed by the concerned Engineer | C48: 3 | D48: Nos | F48: =E48*C48 -> 0
A49: 10 | B49: WINDOWS
A50: 1.2mm galvanized steel sheets on both sides, with corrosion resistance and primer paint, 40mm internal honeycomb or fire-rated mineral wool core for insulation, 1.5mm steel frame and subframe, with reinforcements at hardware locations, All necessary hardware: hinges, handles, closers, as per specifications, Architraves of steel or powder-coated aluminium, Fire and acoustic seals as required, Mastics and sealants for airtightness and fire safety, Powder-coated finish, colour as per approved sample
A51: 10.1 | B51: a) W1 (1.2mx1.4m) m Aluminum Window complete with all fittings, hinges and locks | C51: 19 | D51: Nos | F51: =E51*C51 -> 0
A52: 10.2 | B52: c) W3 (60x80)cm Aluminum Window complete with all fittings, hinges and locks | C52: 3 | D52: Nos | F52: =E52*C52 -> 0
A53: 10.3 | B53: GF Steel Grill Window | C53: 19 | D53: Nos | F53: =E53*C53 -> 0
A54: 11 | B54: MEP WORKS
A55: 11.2 | B55: Plumbing and mechanical works supply and install as per drawaings | C55: 1 | D55: L.S | F55: =C55*E55 -> 0
A56: 11.2 | B56: Electrical works supply and install as per drawaings | C56: 1 | D56: L.S | F56: =C56*E56 -> 0
A57: TOTAL FOR CONSTRUTION WORKS | F57: =SUM(F6:F56) -> 0

Sheet Multipurpose Hall
B3: MULTIPURPOSE HALL
A4: # | B4: DESCRIPTION | C4: QTY | D4: UNIT | E4: RATE | F4: TOTAL / USD
A5: 1 | B5: GENERAL EXPENSES FOR THE PROJECT
A6: 1.1 | B6: Mobilizaion and demobilzation and site clearing ( Please provide a A lumpsum quotation for all your general expenses related to mobilization, demobilization, and site clearing in the Fencing Wall Bill of Quantities.) | C6: 1 | D6: M3 | F6: =E6*C6 -> 0
A7: 2 | B7: EXCAVATION AND EARTHWORKS
A8: 2.1 | B8: Excavation in any kind of soil, rock..etc., starting at natural levels, including all necessary tools,, removal of surplus materials from site to an approved dumping area,complete as per specifications. Trench depths not exceeding 0.80 M from the existing ground level and 1.5m for concrete footing or as per Geotechnical report | C8: 165.072 | D8: M3 | F8: =E8*C8 -> 0
A9: 2.2 | B9: Backfill Improted sellected material "approved hardcore filling" compacted mechanicaly and laid in layers not exceeding 200 mm thick | C9: 191.295 | D9: M3 | F9: =E9*C9 -> 0
A10: 3 | B10: CONCREATE WORK FOR SUBSTRUCTURE & SUPERSTRUCTURE
A11: All concrete works includes the supply of ready mix concrete or Cast in situ, placing& casting, formwork & supports, reproping, shuttering, vibration, curing, testing and whatever needed for the completion of the works all in accordance to the standards, codes, specifications and as details shown in drawings.
A12: A | B12: Supply and construct Plain cast in place concrete "C15", 150 kg/cm2 cube compressive strength at 28 days, with ordinary portland cement below footing and Floor slab and the price include all necessary formwork, complete as per specifications & Thickness as shown on drawings and specifications.
A13: 3.1 | B13: 5cm for floor slab at the finish floor level | C13: 21.255 | D13: M3 | F13: =C13*E13 -> 0
A14: 3.2 | B14: 10cm for Footings | C14: 7.128 | D14: M3 | F14: =C14*E14 -> 0
A15: B | B15: Supply and construct Reinforced cast in place concrete "ready mix concrete with compressive strength 210 kg/cm2 at 28 days (for Foundation, Lintels and Grade Beams) and cast in place concrete "ready mix concrete with compressive strength 250 kg/cm2 at 28 days (Slabs, Beams, Columns and Walls) ,with ordinary portland cement including steel reinforcement grade 60 (420N/mm2) including bending, hooks, tying wires, spacers and concrete placing& casting, formwork &supports, reproping, shuttering, vibration, curing, testing complete as per drawings and specifications
A16: 3.3 | B16: Footings | C16: 28.16 | D16: M3 | F16: =E16*C16 -> 0
A17: 3.4 | B17: for ground beams | C17: 13.432 | D17: M3 | F17: =E17*C17 -> 0
A18: 3.5 | B18: Lintels | C18: 6.716 | D18: M3 | F18: =E18*C18 -> 0
A19: 3.6 | B19: Roof beams at the end of the walls | C19: 6.716 | D19: M3 | F19: =E19*C19 -> 0
A20: 4 | B20: MASONARY WORK
A21: The price of the unit covers everything needed to complete the work, including supply, placement, workmanship, mortar, scaffolding, filling mastic for expansion joints, and all other necessary materials, equipment, and tools as per the specifications provided by the supervisor engineer.
A22: A | B22: The hollow cement block, sourced from a reputable and approved factory, is precisely dimensioned and has been constructed to high standards, with a compressive strength of 35 kg/cm2. This item also includes cement mortars.
A23: 4..1 | B23: 20*40*20 cm for Exterior walls and 15*40*20cm for interior walls jointed with cement sand mortar of 1:4proportion (1 cement: 4 clean coarse sand) | C23: 581.735 | D23: M2 | F23: =E23*C23 -> 0
A24: 4..2 | B24: Concrete Block/ Local Stone Building for the Entance steps | C24: 5.985 | D24: M3 | F24: =E24*C24 -> 0
A25: 4..3 | B25: Accessible wheelchair ramp measuring 1.2 meters wide and 2.5 meters long, with a 20% slope, complete with plastering and a necessary non-slippery surface finish. | C25: 12 | D25: M2 | F25: =E25*C25 -> 0
A26: B | B26: The local stone used must be of the highest quality, in good condition, and capable of being cut into various sizes. Samples will be provided for approval, and all required tests will be conducted. | F26: =E26*C26 -> 0
A27: 4.4 | B27: 40cm thickness bedded and jointed with cement sand mortar of 1:4 proportion (1 cement: 4 clean coarse sand) up to a height of 50cm above the Grade depends on the train, some points may exceed 1oocm. | C27: 53.728 | D27: M3 | F27: =E27*C27 -> 0
A28: 5 | B28: STEEL STRUCTURE WORKS
A29: A | B29: STEEL COULMNS
B30: Supply, cut, and install DIN 1025 IPE 200 steel beam as columns, Steel Base Plate(220x150x16) with drilling and Anchor bolts (1M24 L=500mm) and fix IPE to R.C.C Columns as per structural drawing including welding, bolts, surface preparation, painting, fastening, and all necessary materials, tools, equipment, and safety measures.
A31: 4.1 | B31: Columns | C31: 22 | D31: PCS | F31: =C31*E31 -> 0
A32: B | B32: Steel Beams and/or Rafters
B33: Supply, cut, and install IPE 200 steel beams as beam supports , including welding, bolts, surface preparation, painting, fastening, and all necessary materials, tools, equipment, and safety measures.
A34: 4.2 | B34: Mezzanine | C34: 12 | D34: PCS | F34: =C34*E34 -> 0
A35: 4.3 | B35: Supply, cut, and install IPE 100 steel as beam supports , including welding, bolts, surface preparation, painting, fastening, and all necessary materials, tools, equipment, and safety measures. | C35: 31 | D35: PCS | F35: =C35*E35 -> 0
A36: 4.4 | B36: Supply and install Deck Sheet 3x1 for mezzanine floor (to be covered with concrete), including bolts, welding, cutting, installation equipment, and all necessary materials and items for a complete setup | C36: 30 | D36: PCS | F36: =C36*E36 -> 0
A37: C | B37: STEEL RAFTERS
B38: Supply, cut, and install IPE 180 steel beams as beam supports or rafters, including welding, bolts, surface preparation, painting, fastening, and all necessary materials, tools, equipment, and safety measures.
A39: 4.5 | B39: RAFTERS | C39: 21 | D39: PCS | F39: =C39*E39 -> 0
A40: 4.6 | B40: Supply, cut, and install RHS 40x80x1.4 steel sections as beam supports or rafters, including welding, bolts, surface preparation, painting, fastening, and all necessary materials, tools, equipment, and safety measures. | C40: 145 | D40: PCS | F40: =C40*E40 -> 0
A41: 4.7 | B41: Supply and install Stone coated steel Sheet for top roofing (non-concrete), including ridge cap, gutters, bolts, installation equipment, sealing, and all necessary materials and items to ensure a weatherproof installation . Roof Pitch is 30% slope. Eaves Stick Out=0.3m. (Stone coated sheet size 48cm x 118cm Size) | C41: 455 | D41: M2 | F41: =C41*E41 -> 0
A42: 4.8 | B42: Equipment (Crane ,Scafolding ) | C42: 1 | D42: L.S | F42: =C42*E42 -> 0
A43: 5.1 | B43: Supply and constuct roof including truss members, galvanised iron sheets gauge 28 complete with nails, straps and secured with iron bars embedded into tie beam. | C43: 425.1 | D43: M2 | F43: =C43*E43 -> 0
A44: 5 | B44: PLASTER WORK
A45: All construction work must be carried out in strict accordance with the specificatins and instructions provided by the engineer. 1. The rates should cover the cost of all necessary materials, including galvanized angles for the corners and the use of galvanized wire mesh between concrete and block work. 2. Preparatory work involves covering all electrical and water conduits, as well as spaces between existing walls and slabs, with a galvanized wire mesh at least 20cm wide coated with mortar (1:3 cement: sand). This includes the removal of wires and nails, and thorough cleaning of surfaces in preparation for plastering. This musAll construction work must be carried out in strict accordance with the specifications and instructions provided by the engineer. 1. The rates should cover the cost of all necessary materials, including galvanized angles for the corners and the use of galvanized wire mesh between concrete and block work. 2. Preparatory work involves covering all electrical and water conduits, as well as spaces between existing walls and slabs, with a galvanized wire mesh at least 20cm wide coated with mortar (1:3 cement: sand). This includes the removal of wires and nails, and thorough cleaning of surfaces in preparation for plastering. This must be completed prior to commencing plastering and only after obtaining written approval from the supervising engineer. 3. The contractor is responsible for accounting for all direct and indirect works and expenses necessary for the completion of the specified tasks in the unit price. 4. Curing with water for a minimum of three days for each coat is mandatory. 5. The price for plastering should encompass all essential materials and labor, including mixing, scaffolding, site cleaning, required equipment, and skilled workmanship to ensure that the work is completed in accordance with the specified requirements and engineer's directions.t be completed prior to commencing plastering and only after obtaining written approval from the supervising engineer. 3. The contractor is responsible for accounting for all direct and indirect works and expenses necessary for the completion of the specified tasks in the unit price. 4. Curing with water for a minimum of three days for each coat is mandatory. 5. The price for plastering should encompass all essential materials and labor, including mixing, scaffolding, site cleaning, required equipment, and skilled workmanship to ensure that the work is completed in accordance with the specified requirements and engineer's directions.
A46: 5.1 | B46: Interior walls 20mm thick mortar ratio 1:4 cement and sand plastering | C46: 849.635 | D46: M2 | F46: =E46*C46 -> 0
A47: 5.2 | B47: Exterior walls 20mm thick mortar ratio 1:4 cement and sand plastering | C47: 293.34 | D47: M2 | F47: =E47*C47 -> 0
A48: 5.3 | B48: Exterior Moldings | C48: 1 | D48: L.S | F48: =E48*C48 -> 0
A49: 6 | B49: PAINTING WORK
A50: When pricing the rates for the painting works, the contractor must consider and account for all the costs and expenses outlined in the preambles, drawings, and technical specifications of the contract. The type of paint used must adhere to the specified standards and requirements. Additionally, the contractor should anticipate that the engineer may require various colors or combinations of colors to match an approved color scheme. It is essential that all paint works adhere to the manufacturer's instructions regarding the number of coats, rate of application, and drying time.
A51: 6.1 | B51: Supply and apply emulsion paint on the ceiling and interior walls composed of two coats of putty and 2 coats of emulsion paint. ( colors and brands as directed by the consulting engineer). | C51: 849.635 | D51: M2 | F51: =E51*C51 -> 0
A52: 6.2 | B52: Supply and paint on plastered Exterior walls composed of two coats of perimer and 2 coats of Accrylic paint ( colors and brands as directed by the consulting engineer). | C52: 293.34 | D52: M2 | F52: =E52*C52 -> 0
A53: 7 | B53: TILING TO THE FLOORS & WALLS
A54: 7.1 | B54: Supply and install high quality 40x40cm ceramic floor tiles The tiles shall be laid and fixed to the walls in patterns, style and forms of grouting& jointing as directed by engineer using approved adhesive materials. The price also includes the special coved ceramic pieces for corners and skirting and cost of surface preparation to receive tiles, approved adhesive materials, grouting, aluminum protection angles as approved by the engineer. | C54: 425.1 | D54: M2 | F54: =E54*C54 -> 0
A55: 7.2 | B55: 10cm Ceramic Skirting | C55: 238.4 | F55: =E55*C55 -> 0
A56: 7.3 | B56: Supply and install high quality 20x30cm (20x20) glazed ceramic tiles for walls up to 3m cladding of different colours. The tiles shall be laid and fixed to the walls in patterns, style and forms of grouting& jointing as directed by engineer using approved adhesive materials. The price also includes the special coved ceramic pieces for corners and skirting and cost of surface preparation to receive tiles, which shall include two coats of cement plaster (scratch and float coat), approved adhesive materials, grouting, aluminum protection angles as approved by the engineer. | C56: 58.4 | F56: =E56*C56 -> 0
A57: 7.4 | B57: Marble Stone for Staircase Steps | C57: 30 | F57: =E57*C57 -> 0
A58: 8 | B58: DOORS
A59: A Wooden doors consisting of 1.0mm laminate sheet, 5mm MDF board, and 4mm gypsum board, complete with all necessary frames, subframes, hardware, architraves, mastics, painting, fittings, fixings, and accessories as shown on drawings and per specifications.
A60: A Steel Door consisting of: • 1.2mm galvanized steel sheets on both sides, with corrosion resistance and primer paint, 40mm internal honeycomb or fire-rated mineral wool core for insulation, 1.5mm steel frame and subframe, with reinforcements at hardware locations, All necessary hardware: hinges, locks, handles, closers, as per specifications, Architraves of steel or powder-coated aluminium, Fire and acoustic seals as required, Mastics and sealants for airtightness and fire safety, Powder-coated finish, colour as per approved sample, Accessories: door stops, kickplates, vision panels, fire exit hardware if applicable.
A61: 8.1 | B61: D02 Supply and install double leaf Timber door in complete with all fittings, hinges, locks and keys - door size 170x215cm | C61: 6 | D61: Nos | F61: =E61*C61 -> 0
A62: 9.1 | B62: D02 Supply and install double leaf Timber door in complete with all fittings, hinges, locks and keys - door size 90x215cm | C62: 7 | D62: Nos | F62: =E62*C62 -> 0
A63: 10.1 | B63: D04 Supply and install Single leaf PVC door in complete with all fittings, hinges, locks and keys - door size 80x2.15cm | C63: 6 | D63: Nos | F63: =E63*C63 -> 0
A64: 9 | B64: WINDOWS
A65: 1.2mm galvanized steel sheets on both sides, with corrosion resistance and primer paint, 40mm internal honeycomb or fire-rated mineral wool core for insulation, 1.5mm steel frame and subframe, with reinforcements at hardware locations, All necessary hardware: hinges, handles, closers, as per specifications, Architraves of steel or powder-coated aluminium, Fire and acoustic seals as required, Mastics and sealants for airtightness and fire safety, Powder-coated finish, colour as per approved sample
A66: 9.1 | B66: a) W1 (200x140) cm Aluminum Window complete with all fittings, hinges and locks | C66: 16 | D66: Nos | F66: =E66*C66 -> 0
A67: 9.2 | B67: a) W1 (80x80) cm Aluminum Window complete with all fittings, hinges and locks | C67: 7 | D67: Nos | F67: =E67*C67 -> 0
A68: 9.3 | B68: GF Steel Grill Window | C68: 16 | D68: L.m | F68: =E68*C68 -> 0
A69: 10 | B69: MEP WORKS
A70: 10.1 | B70: Plumbing works supply and install as per drawaings | C70: 1 | D70: L.S | F70: =C70*E70 -> 0
A71: 10.2 | B71: Electrical works supply and install as per drawaings | C71: 1 | D71: L.S | F71: =C71*E71 -> 0
A72: 11 | B72: OTHER WORKS
A73: 11.1 | B73: Stage decoration interior wall panels | C73: 1 | D73: L.S | F73: =E73*C73 -> 0
A74: 11.2 | B74: Gypsum board Decoration | C74: 425.1 | D74: M2 | F74: =E74*C74 -> 0
A75: TOTAL FOR CONSTRUTION WORKS | F75: =SUM(F6:F74) -> 0

Sheet Masjid
B3: MASJID
A4: # | B4: DESCRIPTION | C4: QTY | D4: UNIT | E4: RATE | F4: TOTAL / USD
A5: 1 | B5: GENERAL EXPENSES FOR THE PROJECT
A6: 1.1 | B6: Mobilizaion and demobilzation and site clearing ( Please provide a A lumpsum quotation for all your general expenses related to mobilization, demobilization, and site clearing in the Fencing Wall Bill of Quantities.) | C6: 1 | D6: M3 | F6: =E6*C6 -> 0
A7: 2 | B7: EXCAVATION AND EARTHWORKS
A8: 2.1 | B8: Excavation in any kind of soil, rock..etc., starting at natural levels, including all necessary tools,, removal of surplus materials from site to an approved dumping area,complete as per specifications. Trench depths not exceeding 0.80 M from the existing ground level and 1.5m for concrete footing or as per Geotechnical report | C8: 168.252 | D8: M3 | F8: =E8*C8 -> 0
A9: 2.2 | B9: Backfill Improted sellected material "approved hardcore filling" compacted mechanicaly and laid in layers not exceeding 200 mm thick | C9: 142.812 | D9: M3 | F9: =E9*C9 -> 0
A10: 3 | B10: CONCREATE WORK FOR SUBSTRUCTURE & SUPERSTRUCTURE
A11: All concrete works includes the supply of ready mix concrete or Cast in situ, placing& casting, formwork & supports, reproping, shuttering, vibration, curing, testing and whatever needed for the completion of the works all in accordance to the standards, codes, specifications and as details shown in drawings.
A12: A | B12: Supply and construct Plain cast in place concrete "C15", 150 kg/cm2 cube compressive strength at 28 days, with ordinary portland cement below footing and Floor slab and the price include all necessary formwork, complete as per specifications & Thickness as shown on drawings and specifications.
A13: 3.1 | B13: 5cm for floor slab at the finish floor level | C13: 15.868 | D13: M3 | F13: =C13*E13 -> 0
A14: 3.1.1 | B14: 10cm for footings | C14: 6.532 | D14: M3 | F14: =C14*E14 -> 0
A15: B | B15: Supply and construct Reinforced cast in place concrete "ready mix concrete with compressive strength 210 kg/cm2 at 28 days (for Foundation, Lintels and Grade Beams) and cast in place concrete "ready mix concrete with compressive strength 250 kg/cm2 at 28 days (Slabs, Beams, Columns and Walls) ,with ordinary portland cement including steel reinforcement grade 60 (420N/mm2) including bending, hooks, tying wires, spacers and concrete placing& casting, formwork &supports, reproping, shuttering, vibration, curing, testing complete as per drawings and specifications
A16: 3.2 | B16: for ground beams | C16: 46.848 | D16: M3 | F16: =E16*C16 -> 0
A17: 3.3 | B17: Lintels | C17: 6.884 | D17: M3 | F17: =E17*C17 -> 0
A18: 3.4 | B18: Columns | C18: 28.12 | D18: M3 | F18: =E18*C18 -> 0
A19: 3.5 | B19: Beams | C19: 48.84 | D19: M3 | F19: =E19*C19 -> 0
A20: 3.6 | B20: Slabs | C20: 55.95 | D20: M3 | F20: =E20*C20 -> 0
A21: 3.7 | B21: Footing | C21: 42.528 | D21: M3 | F21: =E21*C21 -> 0
A22: 4 | B22: MASONARY WORK
A23: The price of the unit covers everything needed to complete the work, including supply, placement, workmanship, mortar, scaffolding, filling mastic for expansion joints, and all other necessary materials, equipment, and tools as per the specifications provided by the supervisor engineer.
A24: A | B24: The hollow cement block, sourced from a reputable and approved factory, is precisely dimensioned and has been constructed to high standards, with a compressive strength of 35 kg/cm2. This item also includes cement mortars.
A25: 4..1 | B25: 20*40*20 cm for Exterior walls and 15*40*20cm for interior walls jointed with cement sand mortar of 1:4proportion (1 cement: 4 clean coarse sand) | C25: 743.94 | D25: M2 | F25: =E25*C25 -> 0
A26: 4..2 | B26: Concrete Block/ Local Stone Building for the Entance steps | C26: 5.985 | D26: M3 | F26: =E26*C26 -> 0
A27: 4..3 | B27: Accessible wheelchair ramp measuring 1.2 meters wide and 2.5 meters long, with a 20% slope, complete with plastering and a necessary non-slippery surface finish. | C27: 12 | D27: M2 | F27: =E27*C27 -> 0
A28: B | B28: The local stone used must be of the highest quality, in good condition, and capable of being cut into various sizes. Samples will be provided for approval, and all required tests will be conducted. | F28: =E28*C28 -> 0
A29: 4.4 | B29: 40cm thickness bedded and jointed with cement sand mortar of 1:4 proportion (1 cement: 4 clean coarse sand) up to a height of 50cm above the Grade depends on the train, some points may exceed 1oocm. | C29: 46.848 | D29: M3 | F29: =E29*C29 -> 0
A30: 4.5 | B30: 12M Minaret | C30: 1 | D30: L.s | F30: =E30*C30 -> 0
A31: 5 | B31: PLASTER WORK
A32: All construction work must be carried out in strict accordance with the specificatins and instructions provided by the engineer. 1. The rates should cover the cost of all necessary materials, including galvanized angles for the corners and the use of galvanized wire mesh between concrete and block work. 2. Preparatory work involves covering all electrical and water conduits, as well as spaces between existing walls and slabs, with a galvanized wire mesh at least 20cm wide coated with mortar (1:3 cement: sand). This includes the removal of wires and nails, and thorough cleaning of surfaces in preparation for plastering. This musAll construction work must be carried out in strict accordance with the specifications and instructions provided by the engineer. 1. The rates should cover the cost of all necessary materials, including galvanized angles for the corners and the use of galvanized wire mesh between concrete and block work. 2. Preparatory work involves covering all electrical and water conduits, as well as spaces between existing walls and slabs, with a galvanized wire mesh at least 20cm wide coated with mortar (1:3 cement: sand). This includes the removal of wires and nails, and thorough cleaning of surfaces in preparation for plastering. This must be completed prior to commencing plastering and only after obtaining written approval from the supervising engineer. 3. The contractor is responsible for accounting for all direct and indirect works and expenses necessary for the completion of the specified tasks in the unit price. 4. Curing with water for a minimum of three days for each coat is mandatory. 5. The price for plastering should encompass all essential materials and labor, including mixing, scaffolding, site cleaning, required equipment, and skilled workmanship to ensure that the work is completed in accordance with the specified requirements and engineer's directions.t be completed prior to commencing plastering and only after obtaining written approval from the supervising engineer. 3. The contractor is responsible for accounting for all direct and indirect works and expenses necessary for the completion of the specified tasks in the unit price. 4. Curing with water for a minimum of three days for each coat is mandatory. 5. The price for plastering should encompass all essential materials and labor, including mixing, scaffolding, site cleaning, required equipment, and skilled workmanship to ensure that the work is completed in accordance with the specified requirements and engineer's directions.
A33: 5.1 | B33: Interior walls 20mm thick mortar ratio 1:4 cement and sand plastering | C33: 782.06 | D33: M2 | F33: =E33*C33 -> 0
A34: 5.2 | B34: Exterior walls 20mm thick mortar ratio 1:4 cement and sand plastering | C34: 375.32 | D34: M2 | F34: =E34*C34 -> 0
A35: 5.3 | B35: Exterior Moldings | C35: 1 | D35: L.S | F35: =E35*C35 -> 0
A36: 6 | B36: PAINTING WORK
A37: When pricing the rates for the painting works, the contractor must consider and account for all the costs and expenses outlined in the preambles, drawings, and technical specifications of the contract. The type of paint used must adhere to the specified standards and requirements. Additionally, the contractor should anticipate that the engineer may require various colors or combinations of colors to match an approved color scheme. It is essential that all paint works adhere to the manufacturer's instructions regarding the number of coats, rate of application, and drying time.
A38: 6.1 | B38: Supply and apply emulsion paint on the ceiling and interior walls composed of two coats of putty and 2 coats of emulsion paint. ( colors and brands as directed by the consulting engineer). | C38: 1111.16 | D38: M2 | F38: =E38*C38 -> 0
A39: 6.2 | B39: Supply and paint on plastered Exterior walls composed of two coats of perimer and 2 coats of Accrylic paint ( colors and brands as directed by the consulting engineer). | C39: 375.32 | D39: M2 | F39: =E39*C39 -> 0
A40: 7 | B40: TILING TO THE FLOORS & WALLS
A41: 7.1 | B41: Supply and install high quality 40x40cm ceramic floor tiles The tiles shall be laid and fixed to the walls in patterns, style and forms of grouting& jointing as directed by engineer using approved adhesive materials. The price also includes the special coved ceramic pieces for corners and skirting and cost of surface preparation to receive tiles, approved adhesive materials, grouting, aluminum protection angles as approved by the engineer. | C41: 380.76 | D41: M2 | F41: =E41*C41 -> 0
A42: 7.2 | B42: 10cm Ceramic Skirting | C42: 219.3 | F42: =E42*C42 -> 0
A43: 7.3 | B43: Supply and install high quality 20x30cm (20x20) glazed ceramic tiles for walls up to 3m cladding of different colours. The tiles shall be laid and fixed to the walls in patterns, style and forms of grouting& jointing as directed by engineer using approved adhesive materials. The price also includes the special coved ceramic pieces for corners and skirting and cost of surface preparation to receive tiles, which shall include two coats of cement plaster (scratch and float coat), approved adhesive materials, grouting, aluminum protection angles as approved by the engineer. | C43: 109.4 | F43: =E43*C43 -> 0
A44: 7.4 | B44: Marble Stone for Staircase Steps | C44: 50 | F44: =E44*C44 -> 0
A45: 8 | B45: DOORS
A46: A Wooden doors consisting of 1.0mm laminate sheet, 5mm MDF board, and 4mm gypsum board, complete with all necessary frames, subframes, hardware, architraves, mastics, painting, fittings, fixings, and accessories as shown on drawings and per specifications.
A47: A Steel Door consisting of: • 1.2mm galvanized steel sheets on both sides, with corrosion resistance and primer paint, 40mm internal honeycomb or fire-rated mineral wool core for insulation, 1.5mm steel frame and subframe, with reinforcements at hardware locations, All necessary hardware: hinges, locks, handles, closers, as per specifications, Architraves of steel or powder-coated aluminium, Fire and acoustic seals as required, Mastics and sealants for airtightness and fire safety, Powder-coated finish, colour as per approved sample, Accessories: door stops, kickplates, vision panels, fire exit hardware if applicable.
A48: 8.1 | B48: D01 Supply and install double leaf Timber door in complete with all fittings, hinges, locks and keys - door size 120x215cm | C48: 7 | D48: Nos | F48: =E48*C48 -> 0
A49: 8.2 | B49: D02 Supply and install double leaf Timber door in complete with all fittings, hinges, locks and keys - door size 80x215cm | C49: 10 | D49: Nos | F49: =E49*C49 -> 0
A50: 9 | B50: WINDOWS
A51: 1.2mm galvanized steel sheets on both sides, with corrosion resistance and primer paint, 40mm internal honeycomb or fire-rated mineral wool core for insulation, 1.5mm steel frame and subframe, with reinforcements at hardware locations, All necessary hardware: hinges, handles, closers, as per specifications, Architraves of steel or powder-coated aluminium, Fire and acoustic seals as required, Mastics and sealants for airtightness and fire safety, Powder-coated finish, colour as per approved sample
A52: 9.1 | B52: a) W1 (200x140) cm Aluminum Window complete with all fittings, hinges and locks | C52: 8 | D52: Nos | F52: =E52*C52 -> 0
A53: 9.2 | B53: a) W1 (80x80) cm Aluminum Window complete with all fittings, hinges and locks | C53: 3 | D53: Nos | F53: =E53*C53 -> 0
A54: 9.3 | B54: GF Steel Grill Window | C54: 11 | D54: L.m | F54: =E54*C54 -> 0
A55: 10 | B55: MEP WORKS
A56: 10.1 | B56: Electrical works supply and install as per drawaings | C56: 1 | D56: L.S | F56: =C56*E56 -> 0
A57: 10.2 | B57: plumbing works supply and install as per drawaings | C57: 2 | D57: L.S | F57: =C57*E57 -> 0
A58: B | B58: EXTERNAL WORKS
A59: 1 | B59: Water Proofing Membrane at the Top of RCC Slab | C59: 290 | D59: M2 | F59: =C59*E59 -> 0
A60: TOTAL FOR CONSTRUTION WORKS | F60: =SUM(F6:F59) -> 0

Sheet Furnishing & Other Works
A1: Furnishing & Other Works
A2: A | B2: EXTERNAL WORKS
A3: ITEM | B3: DESCRIPTION | C3: QNTY | D3: UNIT | E3: Rate | F3: TOTAL / USD
A4: 1 | B4: 200 x 100 x 60 mm Interlocking precast concrete paviors(50 N/mm2) at parking area in approved colours set to approved pattern; laid on and including 100 mm compacted sand bed; joints filled with fine sand | C4: 1960 | D4: M2 | F4: =E4*C4 -> 0
A5: 2 | B5: Name tags and Media Materials | C5: 1 | D5: item | F5: =E5*C5 -> 0
A6: 3 | B6: Costs of inauguration and opening ceremonies | C6: 1 | D6: L.S | F6: =E6*C6 -> 0
A7: 4 | B7: Steel Structure Water Tank with Capacity of 15 cubic meter fiber tank | C7: 1 | D7: L.S | F7: =E7*C7 -> 0
A8: 5 | B8: Supply and Install Solar system 10kw | C8: 1 | D8: L.S | F8: =E8*C8 -> 0
A9: 6 | B9: Green Area Preparation | C9: 1 | D9: L.S | F9: =E9*C9 -> 0
A10: 7 | B10: Construction Football pitch | C10: 1 | D10: L.S | F10: =E10*C10 -> 0
A11: 8 | B11: Basic Fire fighting and Safety | C11: 1 | D11: L.S | F11: =E11*C11 -> 0
A12: 9 | B12: Basic CCTV Cameras | C12: 1 | D12: L.S | F12: =E12*C12 -> 0
A13: TOTAL (A) | F13: =SUM(F4:F12) -> 0
A14: B | B14: SEPTIC TANK
A15: 1 | B15: Excavation of septic tank 5.0m long,3.0m wide and 3.0m depth. Excavate in all types of soil depths not exceeding 3.0 M from the existing ground level. | C15: 225 | D15: M3 | F15: =E15*C15 -> 0
A16: 2 | B16: Local stone 40cm thickness bedded and jointed with cement sand mortar of 1:4 proportion (1 cement: 4 clean coarse sand) | C16: 96 | D16: M3 | F16: =E16*C16 -> 0
A17: 3 | B17: R.C (1:2:4 mix) in ground beam (0.4m x0.20m ), with 6N0. Y14 re-bars & Y8 links @ 250 mm c/c. Reinforced cast in place concrete "ready mix concrete with compressive strength 210 kg/cm2 at 28 days (for Lintels and Grade Beams) with ordinary portland cement including steel reinforcement grade 60 (420N/mm2) including bending, hooks, tying wires, spacers and concrete placing& casting, formwork &supports, reproping, shuttering, vibration, curing, testing complete as per drawings and specifications. | C17: 6.4 | D17: M3 | F17: =E17*C17 -> 0
A18: 4 | B18: R.C (1:2:4 Mixing ratio) slab with two entering access of 0.20 m thick with Ø 12mm, 10mm and 8mm bars both ways at top and bottom and distanced 150mm each to other Reinforced cast in place concrete "ready mix concrete with compressive strength 210 kg/cm2 at 28 days (for Lintels and Grade Beams) with ordinary portland cement including steel reinforcement grade 60 (420N/mm2) including bending, hooks, tying wires, spacers and concrete placing& casting, formwork &supports, reproping, shuttering, vibration, curing, testing complete as per drawings and specifications. | C18: 15 | D18: M3 | F18: =E18*C18 -> 0
A19: TOTAL (A) | F19: =SUM(F15:F18) -> 0
A20: B | B20: قائمة التجهيز
B21: DESCRIPTION | C21: QTY | D21: UNIT | E21: UNIT PRICE | F21: TOTAL / USD
A22: مبنى مركز الابتكار
A23: 1 | B23: Office Chairs | C23: NO | D23: 6 | F23: =D23*E23 -> 0
A24: 2 | B24: Office Desk | C24: NO | D24: 5 | F24: =D24*E24 -> 0
A25: 3 | B25: Office Guest Chairs | C25: NO | D25: 10 | F25: =D25*E25 -> 0
A26: 4 | B26: Office Drawer | C26: NO | D26: 5 | F26: =D26*E26 -> 0
A27: 5 | B27: Office Sofa with Coffe Table | C27: NO | D27: 2 | F27: =D27*E27 -> 0
A28: 6 | B28: Computers and Accessories | C28: NO | D28: 6 | F28: =D28*E28 -> 0
A29: 7 | B29: Printers | C29: NO | D29: 6 | F29: =D29*E29 -> 0
A30: 8 | B30: Reception Table | C30: NO | D30: 2 | F30: =D30*E30 -> 0
A31: 9 | B31: Reception Waiting Chairs | C31: NO | D31: 6 | F31: =D31*E31 -> 0
A32: 10 | B32: Meeting Table | C32: NO | D32: 1 | F32: =D32*E32 -> 0
A33: 11 | B33: Meeting Chair | C33: NO | D33: 12 | F33: =D33*E33 -> 0
A34: 12 | B34: Supply room and Archive shelves | C34: NO | D34: 1 | F34: =D34*E34 -> 0
... A54: 32 | B54: Pastry and Barista Workshop Equiping | C54: L.S | D54: 1 | F54: =D54*E54 -> 0
A55: مسجد
A56: 1 | B56: New Carpet for the Praying Area | C56: m2 | D56: 300 | F56: =D56*E56 -> 0
A57: 2 | B57: Moshaf Medium Size | C57: NO | D57: 300 | F57: =D57*E57 -> 0
A58: 3 | B58: Shelfs for the Moshaf | C58: NO | D58: 10 | F58: =D58*E58 -> 0
A59: 4 | B59: Electric Fans | C59: NO | D59: 15 | F59: =D59*E59 -> 0
A60: 5 | B60: Radio and Microphone (Complete Audio System) | C60: NO | D60: 1 | F60: =D60*E60 -> 0
A61: صالة متعددة الاستخدام
A62: 1 | B62: Chairs | C62: NO | D62: 250 | F62: =D62*E62 -> 0
A63: 2 | B63: Office Desk | C63: NO | D63: 1 | F63: =D63*E63 -> 0
A64: 3 | B64: Office Chair | C64: NO | D64: 1 | F64: =D64*E64 -> 0
A65: 4 | B65: Office Drawer | C65: NO | D65: 1 | F65: =D65*E65 -> 0
A66: مبنى المشاغل
A67: 1 | B67: Office Desk | C67: NO | D67: 1 | F67: =D67*E67 -> 0
A68: 2 | B68: Office Chair | C68: NO | D68: 1 | F68: =D68*E68 -> 0
A69: 3 | B69: Guest Chairs | C69: NO | D69: 2 | F69: =D69*E69 -> 0
A70: 4 | B70: Office Drawer | C70: NO | D70: 1 | F70: =D70*E70 -> 0
A71: 5 | B71: Electrical Workshop Tools and Equipments | C71: Lumpsum | D71: 1 | F71: =D71*E71 -> 0
A72: 6 | B72: Mechanical Workshop Tools and Equipments | C72: Lumpsum | D72: 1 | F72: =D72*E72 -> 0
A73: 7 | B73: Timber Workshop Tools and Equipments | C73: Lumpsum | D73: 1 | F73: =D73*E73 -> 0
A74: 8 | B74: Culinary Workshop Equiping | C74: Lumpsum | D74: 1 | F74: =D74*E74 -> 0
A75: TOTAL (B) | F75: =SUM(F23:F74) -> 0
A76: GRAND TOTAL FOR FURNISHING AND OTHER WORKS | F76: =F75+F13+F19 -> 0

Sheet Block Fencing Wall
B3: BIU BOQs- FENCING WALL
A4: # | B4: DESCRIPTION | C4: QTY | D4: UNIT | E4: RATE | F4: TOTAL / USD
A5: 1 | B5: GENERAL EXPENSES FOR THE PROJECT
A6: 1.1 | B6: Mobilizaion and demobilzation and site clearing | C6: 1 | D6: Item | F6: =E6*C6 -> 0
A7: 2 | B7: EXCAVATION AND EARTHWORKS
A8: 2.1 | B8: Excavation in any kind of soil, rock..etc., starting at natural levels, including all necessary tools,, removal of surplus materials from site to an approved dumping area,complete as per specifications. Trench depths not exceeding 0.80 M from the existing ground level and 1.5m for concrete footing or as per Geotechnical report | C8: 466.14 | D8: M3 | F8: =E8*C8 -> 0
A9: 3 | B9: CONCREATE WORK FOR SUBSTRUCTURE & SUPERSTRUCTURE
A10: All concrete works includes the supply of ready mix concrete or Cast in situ, placing& casting, formwork & supports, reproping, shuttering, vibration, curing, testing and whatever needed for the completion of the works all in accordance to the standards, codes, specifications and as details shown in drawings.
A11: A | B11: Supply and construct Plain cast in place concrete "C15", 150 kg/cm2 cube compressive strength at 28 days, with ordinary portland cement below footing and Floor slab and the price include all necessary formwork, complete as per specifications & Thickness as shown on drawings and specifications.
A12: 3.1 | B12: 5cm below the footing | C12: 9.506 | D12: M3 | F12: =C12*E12 -> 0
A13: B | B13: Supply and construct Reinforced cast in place concrete "ready mix concrete with compressive strength 210 kg/cm2 at 28 days (for Foundation, Lintels and Grade Beams) and cast in place concrete "ready mix concrete with compressive strength 250 kg/cm2 at 28 days (Slabs, Beams, Columns and Walls) ,with ordinary portland cement including steel reinforcement grade 60 (420N/mm2) including bending, hooks, tying wires, spacers and concrete placing& casting, formwork &supports, reproping, shuttering, vibration, curing, testing complete as per drawings and specifications
A14: 3.1 | B14: Footing | C14: 69.84 | D14: M3 | F14: =E14*C14 -> 0
A15: 3.2 | B15: for ground beams | C15: 30.16 | D15: M3 | F15: =E15*C15 -> 0
A16: 3.3 | B16: Columns | C16: 69.84 | D16: M3 | F16: =E16*C16 -> 0
A17: 3.4 | B17: 10cm Topping | C17: 7.54 | D17: M3 | F17: =E17*C17 -> 0
A18: 4 | B18: MASONARY WORK
A19: The price of the unit covers everything needed to complete the work, including supply, placement, workmanship, mortar, scaffolding, filling mastic for expansion joints, and all other necessary materials, equipment, and tools as per the specifications provided by the supervisor engineer.
A20: A | B20: The hollow cement block, sourced from a reputable and approved factory, is precisely dimensioned and has been constructed to high standards, with a compressive strength of 35 kg/cm2. This item also includes cement mortars.
A21: 4.1 | B21: 20*40*20 cm for Exterior walls jointed with cement sand mortar of 1:4proportion (1 cement: 4 clean coarse sand) | C21: 918.5 | D21: M2 | F21: =E21*C21 -> 0
A22: B | B22: The local stone used must be of the highest quality, in good condition, and capable of being cut into various sizes. Samples will be provided for approval, and all required tests will be conducted.
A23: 4.2 | B23: 40cm thickness bedded and jointed with cement sand mortar of 1:4 proportion (1 cement: 4 clean coarse sand) up to a height of 40cm above the Grade depends on the train, some points may exceed 8ocm. | C23: 241.28 | D23: M3 | F23: =E23*C23 -> 0
A24: 5 | B24: PLASTER WORK
A25: All construction work must be carried out in strict accordance with the specificatins and instructions provided by the engineer. 1. The rates should cover the cost of all necessary materials, including galvanized angles for the corners and the use of galvanized wire mesh between concrete and block work. 2. Preparatory work involves covering all electrical and water conduits, as well as spaces between existing walls and slabs, with a galvanized wire mesh at least 20cm wide coated with mortar (1:3 cement: sand). This includes the removal of wires and nails, and thorough cleaning of surfaces in preparation for plastering. This musAll construction work must be carried out in strict accordance with the specifications and instructions provided by the engineer. 1. The rates should cover the cost of all necessary materials, including galvanized angles for the corners and the use of galvanized wire mesh between concrete and block work. 2. Preparatory work involves covering all electrical and water conduits, as well as spaces between existing walls and slabs, with a galvanized wire mesh at least 20cm wide coated with mortar (1:3 cement: sand). This includes the removal of wires and nails, and thorough cleaning of surfaces in preparation for plastering. This must be completed prior to commencing plastering and only after obtaining written approval from the supervising engineer. 3. The contractor is responsible for accounting for all direct and indirect works and expenses necessary for the completion of the specified tasks in the unit price. 4. Curing with water for a minimum of three days for each coat is mandatory. 5. The price for plastering should encompass all essential materials and labor, including mixing, scaffolding, site cleaning, required equipment, and skilled workmanship to ensure that the work is completed in accordance with the specified requirements and engineer's directions.t be completed prior to commencing plastering and only after obtaining written approval from the supervising engineer. 3. The contractor is responsible for accounting for all direct and indirect works and expenses necessary for the completion of the specified tasks in the unit price. 4. Curing with water for a minimum of three days for each coat is mandatory. 5. The price for plastering should encompass all essential materials and labor, including mixing, scaffolding, site cleaning, required equipment, and skilled workmanship to ensure that the work is completed in accordance with the specified requirements and engineer's directions.
A26: 5.1 | B26: Exterior walls 20mm thick mortar ratio 1:4 cement and sand plastering | C26: 2517 | D26: M2 | F26: =E26*C26 -> 0
A27: 5.2 | B27: Columns Moldings | C27: 97 | D27: L.S | F27: =E27*C27 -> 0
A28: 6 | B28: PAINTING WORK
A29: When pricing the rates for the painting works, the contractor must consider and account for all the costs and expenses outlined in the preambles, drawings, and technical specifications of the contract. The type of paint used must adhere to the specified standards and requirements. Additionally, the contractor should anticipate that the engineer may require various colors or combinations of colors to match an approved color scheme. It is essential that all paint works adhere to the manufacturer's instructions regarding the number of coats, rate of application, and drying time.
A30: 6.1 | B30: Supply and paint on plastered Exterior walls composed of two coats of perimer and 2 coats of Accrylic paint ( colors and brands as directed by the consulting engineer). | C30: 2517 | D30: M2 | F30: =E30*C30 -> 0
A31: 7 | B31: DOORS
A32: A Steel Door consisting of: • 1.2mm galvanized steel sheets on both sides, with corrosion resistance and primer paint, 40mm internal honeycomb or fire-rated mineral wool core for insulation, 1.5mm steel frame and subframe, with reinforcements at hardware locations, All necessary hardware: hinges, locks, handles, closers, as per specifications, Architraves of steel or powder-coated aluminium, Fire and acoustic seals as required, Mastics and sealants for airtightness and fire safety, Powder-coated finish, colour as per approved sample, Accessories: door stops, kickplates, vision panels, fire exit hardware if applicable.
A33: 8.1 | B33: D01 Supply and install double leaf Steel Sliding Gate in complete with all fittings, hinges, locks and keys - door size 350x300cm with 90cmx200cm door inside one of leafes | C33: 2 | D33: Nos | F33: =E33*C33 -> 0
A34: TOTAL FOR CONSTRUTION WORKS | F34: =SUM(F6:F33) -> 0

Sheet SUMMARY
A2: Summary of Bill of Quantities
A3: NO. | B3: DESCRIPTION | C3: COST ESTIMATE (USD)
A6: B | B6: Builder's Works :-
A7: 1 | B7: Innovation Center | C7: =SUM('Innovation Center'!F62) -> 0
A8: 2 | B8: Vocational Training | C8: =SUM('Vocational Training'!F57) -> 0
A9: 3 | B9: Multipurpose Hall | C9: =SUM('Multipurpose Hall'!F75) -> 0
A10: 4 | B10: Masjid | C10: =SUM(Masjid!F60) -> 0
A11: 5 | B11: Fencing Wall | C11: =SUM('Block Fencing Wall'!F34) -> 0
A12: 6 | B12: Furnishing and Other works | C12: =SUM('Furnishing & Other Works'!F76) -> 0
B13: TOTAL ESTIMATED COST | C13: =SUM(C6:C12) -> 0
